BEGIN:VCALENDAR
VERSION:2.0
PRODID:-//wp-events-plugin.com//7.2.3.1//EN
TZID:America/New_York
X-WR-TIMEZONE:America/New_York
BEGIN:VEVENT
UID:17@muni.lacsuperieur.qc.ca
DTSTART;TZID=America/New_York:20240421T090000
DTEND;TZID=America/New_York:20240421T113000
DTSTAMP:20240320T125946Z
URL:https://muni.lacsuperieur.qc.ca/events/ateliers-creatifs/
SUMMARY:Ateliers créatifs
DESCRIPTION:Ateliers créatifs
CATEGORIES:Loisirs / Culture
LOCATION:1277 Chem. du Lac-Supérieur\, Lac-Supérieur\, QC J0T 1J0\, Canad
 a\, 1277 Chem. du Lac-Supérieur\,  Lac-Supérieur\, J0T 1J0\, Canada
X-APPLE-STRUCTURED-LOCATION;VALUE=URI;X-ADDRESS=1277 Chem. du Lac-Supérieu
 r\,  Lac-Supérieur\, J0T 1J0\, Canada;X-APPLE-RADIUS=100;X-TITLE=1277 Che
 m. du Lac-Supérieur\, Lac-Supérieur\, QC J0T 1J0\, Canada:geo:0,0
END:VEVENT
BEGIN:VTIMEZONE
TZID:America/New_York
X-LIC-LOCATION:America/New_York
BEGIN:DAYLIGHT
DTSTART:20240310T030000
TZOFFSETFROM:-0500
TZOFFSETTO:-0400
TZNAME:EDT
END:DAYLIGHT
END:VTIMEZONE
END:VCALENDAR